BEGIN:VCALENDAR
VERSION:2.0
PRODID:-//WVU Parkersburg - ECPv6.15.12.2//NONSGML v1.0//EN
CALSCALE:GREGORIAN
METHOD:PUBLISH
X-WR-CALNAME:WVU Parkersburg
X-ORIGINAL-URL:https://www.wvup.edu
X-WR-CALDESC:Events for WVU Parkersburg
REFRESH-INTERVAL;VALUE=DURATION:PT1H
X-Robots-Tag:noindex
X-PUBLISHED-TTL:PT1H
BEGIN:VTIMEZONE
TZID:America/New_York
BEGIN:DAYLIGHT
TZOFFSETFROM:-0500
TZOFFSETTO:-0400
TZNAME:EDT
DTSTART:20230312T070000
END:DAYLIGHT
BEGIN:STANDARD
TZOFFSETFROM:-0400
TZOFFSETTO:-0500
TZNAME:EST
DTSTART:20231105T060000
END:STANDARD
BEGIN:DAYLIGHT
TZOFFSETFROM:-0500
TZOFFSETTO:-0400
TZNAME:EDT
DTSTART:20240310T070000
END:DAYLIGHT
BEGIN:STANDARD
TZOFFSETFROM:-0400
TZOFFSETTO:-0500
TZNAME:EST
DTSTART:20241103T060000
END:STANDARD
BEGIN:DAYLIGHT
TZOFFSETFROM:-0500
TZOFFSETTO:-0400
TZNAME:EDT
DTSTART:20250309T070000
END:DAYLIGHT
BEGIN:STANDARD
TZOFFSETFROM:-0400
TZOFFSETTO:-0500
TZNAME:EST
DTSTART:20251102T060000
END:STANDARD
END:VTIMEZONE
BEGIN:VEVENT
DTSTART;TZID=America/New_York:20240819T040000
DTEND;TZID=America/New_York:20240822T080000
DTSTAMP:20260419T132404
CREATED:20240801T152509Z
LAST-MODIFIED:20240801T152509Z
UID:78639-1724040000-1724313600@www.wvup.edu
SUMMARY:Welcome Table
DESCRIPTION:To kick off Welcome Back Week\, WVU Parkersburg will be setting up the Welcome Table! Stop by for directions\, advice\, and free daily snacks.
URL:https://www.wvup.edu/event/welcome-table/
LOCATION:WVU Parkersburg\, 300 Campus Dr\, Parkersburg\, WV 26104\, Parkersburg\, WV\, 26104\, United States
CATEGORIES:General
ATTACH;FMTTYPE=image/jpeg:https://www.wvup.edu/wp-content/uploads/2024/08/IMG_4774-scaled-1.jpg
END:VEVENT
BEGIN:VEVENT
DTSTART;TZID=America/New_York:20240709T050000
DTEND;TZID=America/New_York:20240709T130000
DTSTAMP:20260419T132404
CREATED:20240703T090741Z
LAST-MODIFIED:20240703T090741Z
UID:78290-1720501200-1720530000@www.wvup.edu
SUMMARY:Open Enrollment Day
DESCRIPTION:Visit WVU Parkersburg on Tuesday\, July 9\, 2024 from 9 a.m. to 6 p.m. for our Open Enrollment Day. Engage in a FAFSA Workshop and meet with admissions\, advisors and program representatives to find your place and learn more about our school. \nFrom Welding to Computer Information Technology and Digital Communication to Elementary Education\, we have something for you!\nVisit wvup.edu/future-students to explore our majors\, apply\, find tuition costs and financial aid and so much more.
URL:https://www.wvup.edu/event/open-enrollment-day/
LOCATION:300 Campus Drive\, Parkersburg\, WV\, WV\, 26104\, United States
ATTACH;FMTTYPE=image/jpeg:https://www.wvup.edu/wp-content/uploads/2024/07/WVUP_Summer.jpg
END:VEVENT
END:VCALENDAR