BEGIN:VCALENDAR
VERSION:2.0
PRODID:-//WVU Parkersburg - ECPv6.15.12.2//NONSGML v1.0//EN
CALSCALE:GREGORIAN
METHOD:PUBLISH
X-WR-CALNAME:WVU Parkersburg
X-ORIGINAL-URL:https://www.wvup.edu
X-WR-CALDESC:Events for WVU Parkersburg
REFRESH-INTERVAL;VALUE=DURATION:PT1H
X-Robots-Tag:noindex
X-PUBLISHED-TTL:PT1H
BEGIN:VTIMEZONE
TZID:America/New_York
BEGIN:DAYLIGHT
TZOFFSETFROM:-0500
TZOFFSETTO:-0400
TZNAME:EDT
DTSTART:20230312T070000
END:DAYLIGHT
BEGIN:STANDARD
TZOFFSETFROM:-0400
TZOFFSETTO:-0500
TZNAME:EST
DTSTART:20231105T060000
END:STANDARD
BEGIN:DAYLIGHT
TZOFFSETFROM:-0500
TZOFFSETTO:-0400
TZNAME:EDT
DTSTART:20240310T070000
END:DAYLIGHT
BEGIN:STANDARD
TZOFFSETFROM:-0400
TZOFFSETTO:-0500
TZNAME:EST
DTSTART:20241103T060000
END:STANDARD
BEGIN:DAYLIGHT
TZOFFSETFROM:-0500
TZOFFSETTO:-0400
TZNAME:EDT
DTSTART:20250309T070000
END:DAYLIGHT
BEGIN:STANDARD
TZOFFSETFROM:-0400
TZOFFSETTO:-0500
TZNAME:EST
DTSTART:20251102T060000
END:STANDARD
END:VTIMEZONE
BEGIN:VEVENT
DTSTART;TZID=America/New_York:20240820T080000
DTEND;TZID=America/New_York:20240820T130000
DTSTAMP:20260419T142217
CREATED:20240801T145849Z
LAST-MODIFIED:20240801T145849Z
UID:78629-1724140800-1724158800@www.wvup.edu
SUMMARY:Visit from Humane Society Dogs
DESCRIPTION:Unwind from your second day of classes by spending time with some fluffy friends. Dogs from the Humane Society will be touring our campus from 12 – 1 p.m.
URL:https://www.wvup.edu/event/visit-from-humane-society-dogs/
LOCATION:WVU Parkersburg\, 300 Campus Dr\, Parkersburg\, WV 26104\, Parkersburg\, WV\, 26104\, United States
CATEGORIES:Student Activities
ATTACH;FMTTYPE=image/jpeg:https://www.wvup.edu/wp-content/uploads/2024/08/pexels-pixabay-160846-scaled-1.jpg
END:VEVENT
BEGIN:VEVENT
DTSTART;TZID=America/New_York:20240820T043000
DTEND;TZID=America/New_York:20240820T070000
DTSTAMP:20260419T142217
CREATED:20240801T150138Z
LAST-MODIFIED:20240801T150138Z
UID:78632-1724128200-1724137200@www.wvup.edu
SUMMARY:Morning Yoga with Ricky
DESCRIPTION:Loosen up with Ricky before your classes start! Ricky will be leading a calming yoga class in the courtyard for all who need a morning destressor.
URL:https://www.wvup.edu/event/morning-yoga-with-ricky/
LOCATION:WVU Parkersburg\, 300 Campus Dr\, Parkersburg\, WV 26104\, Parkersburg\, WV\, 26104\, United States
CATEGORIES:Student Activities
ATTACH;FMTTYPE=image/jpeg:https://www.wvup.edu/wp-content/uploads/2024/08/Ricky_SB_3.jpg
END:VEVENT
BEGIN:VEVENT
DTSTART;TZID=America/New_York:20240709T050000
DTEND;TZID=America/New_York:20240709T130000
DTSTAMP:20260419T142217
CREATED:20240703T090741Z
LAST-MODIFIED:20240703T090741Z
UID:78290-1720501200-1720530000@www.wvup.edu
SUMMARY:Open Enrollment Day
DESCRIPTION:Visit WVU Parkersburg on Tuesday\, July 9\, 2024 from 9 a.m. to 6 p.m. for our Open Enrollment Day. Engage in a FAFSA Workshop and meet with admissions\, advisors and program representatives to find your place and learn more about our school. \nFrom Welding to Computer Information Technology and Digital Communication to Elementary Education\, we have something for you!\nVisit wvup.edu/future-students to explore our majors\, apply\, find tuition costs and financial aid and so much more.
URL:https://www.wvup.edu/event/open-enrollment-day/
LOCATION:300 Campus Drive\, Parkersburg\, WV\, WV\, 26104\, United States
ATTACH;FMTTYPE=image/jpeg:https://www.wvup.edu/wp-content/uploads/2024/07/WVUP_Summer.jpg
END:VEVENT
END:VCALENDAR