BEGIN:VCALENDAR
VERSION:2.0
PRODID:-//WVU Parkersburg - ECPv6.15.12.2//NONSGML v1.0//EN
CALSCALE:GREGORIAN
METHOD:PUBLISH
X-WR-CALNAME:WVU Parkersburg
X-ORIGINAL-URL:https://www.wvup.edu
X-WR-CALDESC:Events for WVU Parkersburg
REFRESH-INTERVAL;VALUE=DURATION:PT1H
X-Robots-Tag:noindex
X-PUBLISHED-TTL:PT1H
BEGIN:VTIMEZONE
TZID:America/New_York
BEGIN:DAYLIGHT
TZOFFSETFROM:-0500
TZOFFSETTO:-0400
TZNAME:EDT
DTSTART:20240310T070000
END:DAYLIGHT
BEGIN:STANDARD
TZOFFSETFROM:-0400
TZOFFSETTO:-0500
TZNAME:EST
DTSTART:20241103T060000
END:STANDARD
BEGIN:DAYLIGHT
TZOFFSETFROM:-0500
TZOFFSETTO:-0400
TZNAME:EDT
DTSTART:20250309T070000
END:DAYLIGHT
BEGIN:STANDARD
TZOFFSETFROM:-0400
TZOFFSETTO:-0500
TZNAME:EST
DTSTART:20251102T060000
END:STANDARD
BEGIN:DAYLIGHT
TZOFFSETFROM:-0500
TZOFFSETTO:-0400
TZNAME:EDT
DTSTART:20260308T070000
END:DAYLIGHT
BEGIN:STANDARD
TZOFFSETFROM:-0400
TZOFFSETTO:-0500
TZNAME:EST
DTSTART:20261101T060000
END:STANDARD
END:VTIMEZONE
BEGIN:VEVENT
DTSTART;TZID=America/New_York:20250405T100000
DTEND;TZID=America/New_York:20250405T120000
DTSTAMP:20260426T003042
CREATED:20250311T132424Z
LAST-MODIFIED:20250311T132424Z
UID:82173-1743847200-1743854400@www.wvup.edu
SUMMARY:Wood County's 10th Poorhouse Cemetery Cleanup
DESCRIPTION:The Fine Arts Committee and the Art Club will be hosting the Poorhouse Cemetery clean-up event!\nVolunteers will help straighten and fix broken crosses\, trim bushes and grass\, and remove debris. Please dress accordingly and bring any tools you may have. Anyone interested in volunteering can contact Dr. Lauri Reidmiller at Lreidmil@wvup.edu
URL:https://www.wvup.edu/event/wood-countys-10th-poorhouse-cemetery-cleanup/
LOCATION:WVU Parkersburg\, 300 Campus Dr\, Parkersburg\, WV 26104\, Parkersburg\, WV\, 26104\, United States
CATEGORIES:Student Activities,Clubs and Organizations,General
ATTACH;FMTTYPE=image/jpeg:https://www.wvup.edu/wp-content/uploads/2025/03/Poorhouse-Cleanup-2025.jpg
END:VEVENT
END:VCALENDAR