BEGIN:VCALENDAR
VERSION:2.0
PRODID:-//WVU Parkersburg - ECPv6.15.12.2//NONSGML v1.0//EN
CALSCALE:GREGORIAN
METHOD:PUBLISH
X-ORIGINAL-URL:https://www.wvup.edu
X-WR-CALDESC:Events for WVU Parkersburg
REFRESH-INTERVAL;VALUE=DURATION:PT1H
X-Robots-Tag:noindex
X-PUBLISHED-TTL:PT1H
BEGIN:VTIMEZONE
TZID:America/New_York
BEGIN:DAYLIGHT
TZOFFSETFROM:-0500
TZOFFSETTO:-0400
TZNAME:EDT
DTSTART:20240310T070000
END:DAYLIGHT
BEGIN:STANDARD
TZOFFSETFROM:-0400
TZOFFSETTO:-0500
TZNAME:EST
DTSTART:20241103T060000
END:STANDARD
BEGIN:DAYLIGHT
TZOFFSETFROM:-0500
TZOFFSETTO:-0400
TZNAME:EDT
DTSTART:20250309T070000
END:DAYLIGHT
BEGIN:STANDARD
TZOFFSETFROM:-0400
TZOFFSETTO:-0500
TZNAME:EST
DTSTART:20251102T060000
END:STANDARD
BEGIN:DAYLIGHT
TZOFFSETFROM:-0500
TZOFFSETTO:-0400
TZNAME:EDT
DTSTART:20260308T070000
END:DAYLIGHT
BEGIN:STANDARD
TZOFFSETFROM:-0400
TZOFFSETTO:-0500
TZNAME:EST
DTSTART:20261101T060000
END:STANDARD
END:VTIMEZONE
BEGIN:VEVENT
DTSTART;TZID=America/New_York:20250408T120000
DTEND;TZID=America/New_York:20250408T130000
DTSTAMP:20260419T094813
CREATED:20250401T151240Z
LAST-MODIFIED:20250401T151240Z
UID:82336-1744113600-1744117200@www.wvup.edu
SUMMARY:Singing Into Summer Karaoke
DESCRIPTION:Show off your talents and sing your favorite songs at Karaoke on April 8 at the Cafeteria Stage!
URL:https://www.wvup.edu/event/singing-into-summer-karaoke/
LOCATION:WV
CATEGORIES:Student Activities,General
ATTACH;FMTTYPE=image/jpeg:https://www.wvup.edu/wp-content/uploads/2025/01/Karaoke-Generic--scaled.jpg
END:VEVENT
END:VCALENDAR