BEGIN:VCALENDAR
VERSION:2.0
PRODID:-//WVU Parkersburg - ECPv6.15.12.2//NONSGML v1.0//EN
CALSCALE:GREGORIAN
METHOD:PUBLISH
X-ORIGINAL-URL:https://www.wvup.edu
X-WR-CALDESC:Events for WVU Parkersburg
REFRESH-INTERVAL;VALUE=DURATION:PT1H
X-Robots-Tag:noindex
X-PUBLISHED-TTL:PT1H
BEGIN:VTIMEZONE
TZID:America/New_York
BEGIN:DAYLIGHT
TZOFFSETFROM:-0500
TZOFFSETTO:-0400
TZNAME:EDT
DTSTART:20230312T070000
END:DAYLIGHT
BEGIN:STANDARD
TZOFFSETFROM:-0400
TZOFFSETTO:-0500
TZNAME:EST
DTSTART:20231105T060000
END:STANDARD
BEGIN:DAYLIGHT
TZOFFSETFROM:-0500
TZOFFSETTO:-0400
TZNAME:EDT
DTSTART:20240310T070000
END:DAYLIGHT
BEGIN:STANDARD
TZOFFSETFROM:-0400
TZOFFSETTO:-0500
TZNAME:EST
DTSTART:20241103T060000
END:STANDARD
BEGIN:DAYLIGHT
TZOFFSETFROM:-0500
TZOFFSETTO:-0400
TZNAME:EDT
DTSTART:20250309T070000
END:DAYLIGHT
BEGIN:STANDARD
TZOFFSETFROM:-0400
TZOFFSETTO:-0500
TZNAME:EST
DTSTART:20251102T060000
END:STANDARD
END:VTIMEZONE
BEGIN:VEVENT
DTSTART;TZID=America/New_York:20240820T090000
DTEND;TZID=America/New_York:20241030T130000
DTSTAMP:20260421T035558
CREATED:20240703T085040Z
LAST-MODIFIED:20241021T200218Z
UID:78287-1724144400-1730293200@www.wvup.edu
SUMMARY:HESI A2
DESCRIPTION:The HESI A2 Nursing exam will take place on campus from 9:00 a.m. – 1:00 p.m. on the following dates: August 20\, 21\, 26 & 28; October 21\, 23\, 28 & 30. Please call the nursing office at 304-424-8300 to sign up today!
URL:https://www.wvup.edu/event/hesi-a2/
LOCATION:300 Campus Drive\, Parkersburg\, WV\, WV\, 26104\, United States
ATTACH;FMTTYPE=image/webp:https://www.wvup.edu/wp-content/uploads/2024/07/pexels-photo-7659868.webp
END:VEVENT
BEGIN:VEVENT
DTSTART;TZID=America/New_York:20241021T100000
DTEND;TZID=America/New_York:20241025T170000
DTSTAMP:20260421T035558
CREATED:20240726T180456Z
LAST-MODIFIED:20241021T195849Z
UID:78507-1729504800-1729875600@www.wvup.edu
SUMMARY:Nestfest 2024
DESCRIPTION:Nestfest is WVU Parkersburg’s annual event inviting to dress up and connect with week-long activities. Here’s only some of what we have to offer this year! \nOctober 21\, High School Alumni Day-\nChex Mix bar with Halloween trivia (play with your high school alumni) \nOctober 22\, Halloween Costume Day-\nTrunk or Treat hosted in the evening \nOctober 23\, Movie Character Day-\nChili Cookoff \nOctober 24\, Country vs. Country Club-\nFood Truck Festival at Discovery World on Market \nOctober 25\, WVU Parkersburg Spirit Day
URL:https://www.wvup.edu/event/nestfest-2024/
LOCATION:WVU Parkersburg\, 300 Campus Dr\, Parkersburg\, WV 26104\, Parkersburg\, WV\, 26104\, United States
CATEGORIES:Student Activities
ATTACH;FMTTYPE=image/jpeg:https://www.wvup.edu/wp-content/uploads/2024/07/nestfest.jpg
END:VEVENT
BEGIN:VEVENT
DTSTART;TZID=America/New_York:20241022T180000
DTEND;TZID=America/New_York:20241022T200000
DTSTAMP:20260421T035558
CREATED:20240826T131232Z
LAST-MODIFIED:20241021T195242Z
UID:79146-1729620000-1729627200@www.wvup.edu
SUMMARY:Trunk or Treat 2024
DESCRIPTION:Join us in our lower parking lot to celebrate Trunk or Treat 2024! The community is welcome to trick or treat at WVU Parkersburg with its many clubs and partners. \nAdditionally\, Tuesday is Halloween Costume Day! Sport your most frightening costume for Nestfest!
URL:https://www.wvup.edu/event/trunk-or-treat-2024/
LOCATION:WVU Parkersburg\, 300 Campus Dr\, Parkersburg\, WV 26104\, Parkersburg\, WV\, 26104\, United States
CATEGORIES:Student Activities,Clubs and Organizations
ATTACH;FMTTYPE=image/webp:https://www.wvup.edu/wp-content/uploads/2024/08/halloween-2837936_1280.webp
END:VEVENT
END:VCALENDAR