BEGIN:VCALENDAR
VERSION:2.0
PRODID:-//WVU Parkersburg - ECPv6.15.12.2//NONSGML v1.0//EN
CALSCALE:GREGORIAN
METHOD:PUBLISH
X-ORIGINAL-URL:https://www.wvup.edu
X-WR-CALDESC:Events for WVU Parkersburg
REFRESH-INTERVAL;VALUE=DURATION:PT1H
X-Robots-Tag:noindex
X-PUBLISHED-TTL:PT1H
BEGIN:VTIMEZONE
TZID:America/New_York
BEGIN:DAYLIGHT
TZOFFSETFROM:-0500
TZOFFSETTO:-0400
TZNAME:EDT
DTSTART:20230312T070000
END:DAYLIGHT
BEGIN:STANDARD
TZOFFSETFROM:-0400
TZOFFSETTO:-0500
TZNAME:EST
DTSTART:20231105T060000
END:STANDARD
BEGIN:DAYLIGHT
TZOFFSETFROM:-0500
TZOFFSETTO:-0400
TZNAME:EDT
DTSTART:20240310T070000
END:DAYLIGHT
BEGIN:STANDARD
TZOFFSETFROM:-0400
TZOFFSETTO:-0500
TZNAME:EST
DTSTART:20241103T060000
END:STANDARD
BEGIN:DAYLIGHT
TZOFFSETFROM:-0500
TZOFFSETTO:-0400
TZNAME:EDT
DTSTART:20250309T070000
END:DAYLIGHT
BEGIN:STANDARD
TZOFFSETFROM:-0400
TZOFFSETTO:-0500
TZNAME:EST
DTSTART:20251102T060000
END:STANDARD
END:VTIMEZONE
BEGIN:VEVENT
DTSTART;TZID=America/New_York:20240820T090000
DTEND;TZID=America/New_York:20241030T130000
DTSTAMP:20260421T035558
CREATED:20240703T085040Z
LAST-MODIFIED:20241021T200218Z
UID:78287-1724144400-1730293200@www.wvup.edu
SUMMARY:HESI A2
DESCRIPTION:The HESI A2 Nursing exam will take place on campus from 9:00 a.m. – 1:00 p.m. on the following dates: August 20\, 21\, 26 & 28; October 21\, 23\, 28 & 30. Please call the nursing office at 304-424-8300 to sign up today!
URL:https://www.wvup.edu/event/hesi-a2/
LOCATION:300 Campus Drive\, Parkersburg\, WV\, WV\, 26104\, United States
ATTACH;FMTTYPE=image/webp:https://www.wvup.edu/wp-content/uploads/2024/07/pexels-photo-7659868.webp
END:VEVENT
BEGIN:VEVENT
DTSTART;TZID=America/New_York:20241009T111500
DTEND;TZID=America/New_York:20241009T160000
DTSTAMP:20260421T035558
CREATED:20241009T063652Z
LAST-MODIFIED:20241010T120451Z
UID:80370-1728472500-1728489600@www.wvup.edu
SUMMARY:Cover Letter Workshop
DESCRIPTION:Join us in the Success Epicenter to learn about best practices and guidelines for writing a successful and effective cover letter. Feel free to bring a (real or imaginary) dream job you would be tailoring your letter to! \nEmail careerservices@wvup.edu with any questions. \n**A special Zoom session will also be held on October 8 at 5 p.m.\nhttps://wvup.zoom.us/j/93214171209
URL:https://www.wvup.edu/event/cover-letter-workshop/
LOCATION:Success Epicenter Main Campus\, WV\, United States
CATEGORIES:Student Activities
ATTACH;FMTTYPE=image/jpeg:https://www.wvup.edu/wp-content/uploads/2024/10/Business_Analytic_Working_With_Documents_original.jpg
END:VEVENT
END:VCALENDAR